BEGIN:VCALENDAR
VERSION:2.0
PRODID:icalendar-ruby
CALSCALE:GREGORIAN
METHOD:PUBLISH
BEGIN:VEVENT
DTSTAMP:20260419T140415Z
UID:161-770041@reschurchaz.com
DTSTART:20260523T160000Z
DTEND:20260523T183000Z
CLASS:PUBLIC
CREATED:20260418T183831
DESCRIPTION:Come and join us for a time of great food and fellowship! \nBr
 ing a friend and a dish to share!\n \nFor location information: Email in
 fo@ResChurchAZ.com or text 602-434-3345.
LAST-MODIFIED:20260418T183831
LOCATION:The Cores' House
SUMMARY:Breakfast Fellowship
URL;VALUE=URI:https://www.reschurchaz.com/events/breakfast-fellowship--161/
 2026-05-23
ATTACH;FILENAME=breakfast_fellowship-2025.png;FMTTYPE=image/png:https://dq5
 pwpg1q8ru0.cloudfront.net/2025/08/12/22/05/16/bd2f24af-56ad-4b62-8133-afb8
 a4980a07/breakfast_fellowship-2025.png
END:VEVENT
END:VCALENDAR
